BEGIN:VCALENDAR
VERSION:2.0
PRODID:-//The Otago Art Society - ECPv4.4.5//NONSGML v1.0//EN
CALSCALE:GREGORIAN
METHOD:PUBLISH
X-WR-CALNAME:The Otago Art Society
X-ORIGINAL-URL:http://otagoartsociety.co.nz
X-WR-CALDESC:Events for The Otago Art Society
BEGIN:VEVENT
DTSTART;TZID=Pacific/Auckland:20160530T040000
DTEND;TZID=Pacific/Auckland:20160530T060000
DTSTAMP:20180123T054136
CREATED:20160504T145811Z
LAST-MODIFIED:20160518T120307Z
UID:2262-1464580800-1464588000@otagoartsociety.co.nz
SUMMARY:A4 Anonymous Panels
DESCRIPTION:Please bring in your completed A4 panels for the 140th exhibition. The proceeds of the sale will go to fund a special Dunedin artists award.
URL:http://otagoartsociety.co.nz/event/a4-anonymous-panels/
END:VEVENT
END:VCALENDAR