BEGIN:VCALENDAR
VERSION:2.0
PRODID:-//The Otago Art Society - ECPv4.4.5//NONSGML v1.0//EN
CALSCALE:GREGORIAN
METHOD:PUBLISH
X-WR-CALNAME:The Otago Art Society
X-ORIGINAL-URL:http://otagoartsociety.co.nz
X-WR-CALDESC:Events for The Otago Art Society
BEGIN:VEVENT
DTSTART;TZID=Pacific/Auckland:20161205T100000
DTEND;TZID=Pacific/Auckland:20170129T160000
DTSTAMP:20180123T054014
CREATED:20161105T223046Z
LAST-MODIFIED:20161128T200510Z
UID:2951-1480932000-1485705600@otagoartsociety.co.nz
SUMMARY:Affordable Art Exhibition
DESCRIPTION:Join us for our 2016 Affordable Art Exhibition in Dunedin. All works $1000 and under.\n\nOpen to the public and free of charge.\n\nReceiving day from Monday 5th.
URL:http://otagoartsociety.co.nz/event/affordable-art-exhibition/
LOCATION:Dunedin Railway Station\, 22 Anzac Avenue\, Dunedin\, 9016\, New Zealand
END:VEVENT
END:VCALENDAR