BEGIN:VCALENDAR
VERSION:2.0
PRODID:-//The Otago Art Society - ECPv4.4.5//NONSGML v1.0//EN
CALSCALE:GREGORIAN
METHOD:PUBLISH
X-WR-CALNAME:The Otago Art Society
X-ORIGINAL-URL:http://otagoartsociety.co.nz
X-WR-CALDESC:Events for The Otago Art Society
BEGIN:VEVENT
DTSTART;TZID=Pacific/Auckland:20180203T100000
DTEND;TZID=Pacific/Auckland:20180304T160000
DTSTAMP:20180123T054711
CREATED:20180116T030053Z
LAST-MODIFIED:20180116T030053Z
UID:3950-1517652000-1520179200@otagoartsociety.co.nz
SUMMARY:Summer Exhibition Public Opening
DESCRIPTION:View and buy our members beautiful artwork
URL:http://otagoartsociety.co.nz/event/summer-exhibition-public-opening/
END:VEVENT
END:VCALENDAR