BEGIN:VCALENDAR
VERSION:2.0
PRODID:-//The Otago Art Society - ECPv6.15.20//NONSGML v1.0//EN
CALSCALE:GREGORIAN
METHOD:PUBLISH
X-WR-CALNAME:The Otago Art Society
X-ORIGINAL-URL:https://otagoartsociety.co.nz
X-WR-CALDESC:Events for The Otago Art Society
REFRESH-INTERVAL;VALUE=DURATION:PT1H
X-Robots-Tag:noindex
X-PUBLISHED-TTL:PT1H
BEGIN:VTIMEZONE
TZID:Pacific/Auckland
BEGIN:STANDARD
TZOFFSETFROM:+1300
TZOFFSETTO:+1200
TZNAME:NZST
DTSTART:20180331T140000
END:STANDARD
BEGIN:DAYLIGHT
TZOFFSETFROM:+1200
TZOFFSETTO:+1300
TZNAME:NZDT
DTSTART:20180929T140000
END:DAYLIGHT
BEGIN:STANDARD
TZOFFSETFROM:+1300
TZOFFSETTO:+1200
TZNAME:NZST
DTSTART:20190406T140000
END:STANDARD
BEGIN:DAYLIGHT
TZOFFSETFROM:+1200
TZOFFSETTO:+1300
TZNAME:NZDT
DTSTART:20190928T140000
END:DAYLIGHT
BEGIN:STANDARD
TZOFFSETFROM:+1300
TZOFFSETTO:+1200
TZNAME:NZST
DTSTART:20200404T140000
END:STANDARD
BEGIN:DAYLIGHT
TZOFFSETFROM:+1200
TZOFFSETTO:+1300
TZNAME:NZDT
DTSTART:20200926T140000
END:DAYLIGHT
END:VTIMEZONE
BEGIN:VEVENT
DTSTART;TZID=Pacific/Auckland:20190504T100000
DTEND;TZID=Pacific/Auckland:20190615T160000
DTSTAMP:20260426T083132
CREATED:20181029T014551Z
LAST-MODIFIED:20190308T044323Z
UID:4510-1556964000-1560614400@otagoartsociety.co.nz
SUMMARY:The Cleveland National Art Awards 2019
DESCRIPTION:ABOUT:\nThe Otago Art Society Presents: The Cleveland National Art Awards\, a biennial exhibition kindly sponsored by The Cleveland Charitable Foundation. There is a $10\,500 prize pool for artists entered in the exhibition. \nThis exhibition will run from the 4th of May until the 15th of June 2019. \n  \nAPPLICANT ENTRY FORM:\n  Download as PDF \nWe are now welcoming members of the public to enter the exhibition using the form above. Please print this out. Entry forms and works must be submitted by the 13th of April. Please note you must meet all terms of entry to be considered.
URL:https://otagoartsociety.co.nz/event/cleveland-exhibition-2019/
END:VEVENT
END:VCALENDAR