BEGIN:VCALENDAR
VERSION:2.0
PRODID:-//The Otago Art Society - ECPv6.15.20//NONSGML v1.0//EN
CALSCALE:GREGORIAN
METHOD:PUBLISH
X-WR-CALNAME:The Otago Art Society
X-ORIGINAL-URL:https://otagoartsociety.co.nz
X-WR-CALDESC:Events for The Otago Art Society
REFRESH-INTERVAL;VALUE=DURATION:PT1H
X-Robots-Tag:noindex
X-PUBLISHED-TTL:PT1H
BEGIN:VTIMEZONE
TZID:Pacific/Auckland
BEGIN:STANDARD
TZOFFSETFROM:+1300
TZOFFSETTO:+1200
TZNAME:NZST
DTSTART:20180331T140000
END:STANDARD
BEGIN:DAYLIGHT
TZOFFSETFROM:+1200
TZOFFSETTO:+1300
TZNAME:NZDT
DTSTART:20180929T140000
END:DAYLIGHT
BEGIN:STANDARD
TZOFFSETFROM:+1300
TZOFFSETTO:+1200
TZNAME:NZST
DTSTART:20190406T140000
END:STANDARD
BEGIN:DAYLIGHT
TZOFFSETFROM:+1200
TZOFFSETTO:+1300
TZNAME:NZDT
DTSTART:20190928T140000
END:DAYLIGHT
BEGIN:STANDARD
TZOFFSETFROM:+1300
TZOFFSETTO:+1200
TZNAME:NZST
DTSTART:20200404T140000
END:STANDARD
BEGIN:DAYLIGHT
TZOFFSETFROM:+1200
TZOFFSETTO:+1300
TZNAME:NZDT
DTSTART:20200926T140000
END:DAYLIGHT
END:VTIMEZONE
BEGIN:VEVENT
DTSTART;TZID=Pacific/Auckland:20191025T100000
DTEND;TZID=Pacific/Auckland:20191121T160000
DTSTAMP:20260426T000311
CREATED:20190803T052131Z
LAST-MODIFIED:20191022T042751Z
UID:4752-1571997600-1574352000@otagoartsociety.co.nz
SUMMARY:Spring Exhibition 2019
DESCRIPTION:View a wonderful collection of fresh works from the Society members generously sponsored by Ryman Healthcare.
URL:https://otagoartsociety.co.nz/event/spring-exhibition-2019/
END:VEVENT
END:VCALENDAR