BEGIN:VCALENDAR
VERSION:2.0
PRODID:-//The Otago Art Society - ECPv6.15.20//NONSGML v1.0//EN
CALSCALE:GREGORIAN
METHOD:PUBLISH
X-WR-CALNAME:The Otago Art Society
X-ORIGINAL-URL:https://otagoartsociety.co.nz
X-WR-CALDESC:Events for The Otago Art Society
REFRESH-INTERVAL;VALUE=DURATION:PT1H
X-Robots-Tag:noindex
X-PUBLISHED-TTL:PT1H
BEGIN:VTIMEZONE
TZID:Pacific/Auckland
BEGIN:STANDARD
TZOFFSETFROM:+1300
TZOFFSETTO:+1200
TZNAME:NZST
DTSTART:20190406T140000
END:STANDARD
BEGIN:DAYLIGHT
TZOFFSETFROM:+1200
TZOFFSETTO:+1300
TZNAME:NZDT
DTSTART:20190928T140000
END:DAYLIGHT
BEGIN:STANDARD
TZOFFSETFROM:+1300
TZOFFSETTO:+1200
TZNAME:NZST
DTSTART:20200404T140000
END:STANDARD
BEGIN:DAYLIGHT
TZOFFSETFROM:+1200
TZOFFSETTO:+1300
TZNAME:NZDT
DTSTART:20200926T140000
END:DAYLIGHT
BEGIN:STANDARD
TZOFFSETFROM:+1300
TZOFFSETTO:+1200
TZNAME:NZST
DTSTART:20210403T140000
END:STANDARD
BEGIN:DAYLIGHT
TZOFFSETFROM:+1200
TZOFFSETTO:+1300
TZNAME:NZDT
DTSTART:20210925T140000
END:DAYLIGHT
END:VTIMEZONE
BEGIN:VEVENT
DTSTART;TZID=Pacific/Auckland:20200915T100000
DTEND;TZID=Pacific/Auckland:20200922T160000
DTSTAMP:20260425T081750
CREATED:20200826T051046Z
LAST-MODIFIED:20200912T042454Z
UID:5141-1600164000-1600790400@otagoartsociety.co.nz
SUMMARY:Terry Mosley and James Thomson-Bache  Exhibition
DESCRIPTION:Come along to view the work of Artsenta members\, Terry Mosely with ‘ Avoidance’ and James Thomson-Bache with ‘Fun and Games’. James was a finalist in the recent prestigious Parkin drawing awards.
URL:https://otagoartsociety.co.nz/event/artsenta-exhibition-2/
END:VEVENT
END:VCALENDAR