BEGIN:VCALENDAR
VERSION:2.0
PRODID:-//The Otago Art Society - ECPv6.15.20//NONSGML v1.0//EN
CALSCALE:GREGORIAN
METHOD:PUBLISH
X-ORIGINAL-URL:https://otagoartsociety.co.nz
X-WR-CALDESC:Events for The Otago Art Society
REFRESH-INTERVAL;VALUE=DURATION:PT1H
X-Robots-Tag:noindex
X-PUBLISHED-TTL:PT1H
BEGIN:VTIMEZONE
TZID:Pacific/Auckland
BEGIN:STANDARD
TZOFFSETFROM:+1300
TZOFFSETTO:+1200
TZNAME:NZST
DTSTART:20240406T140000
END:STANDARD
BEGIN:DAYLIGHT
TZOFFSETFROM:+1200
TZOFFSETTO:+1300
TZNAME:NZDT
DTSTART:20240928T140000
END:DAYLIGHT
BEGIN:STANDARD
TZOFFSETFROM:+1300
TZOFFSETTO:+1200
TZNAME:NZST
DTSTART:20250405T140000
END:STANDARD
BEGIN:DAYLIGHT
TZOFFSETFROM:+1200
TZOFFSETTO:+1300
TZNAME:NZDT
DTSTART:20250927T140000
END:DAYLIGHT
BEGIN:STANDARD
TZOFFSETFROM:+1300
TZOFFSETTO:+1200
TZNAME:NZST
DTSTART:20260404T140000
END:STANDARD
BEGIN:DAYLIGHT
TZOFFSETFROM:+1200
TZOFFSETTO:+1300
TZNAME:NZDT
DTSTART:20260926T140000
END:DAYLIGHT
END:VTIMEZONE
BEGIN:VEVENT
DTSTART;TZID=Pacific/Auckland:20250322T100000
DTEND;TZID=Pacific/Auckland:20250426T160000
DTSTAMP:20260421T215613
CREATED:20170211T212403Z
LAST-MODIFIED:20250429T064116Z
UID:3131-1742637600-1745683200@otagoartsociety.co.nz
SUMMARY:The Cleveland National Art Awards 2025
DESCRIPTION:Dunedin Railway Station\, First Floor. Ends 26th April.\nOpen daily:\nSunday to Friday from 10am – 4pm\nSaturdays from 9.30am–3.30pm \nABOUT\nThe Cleveland National Art Awards\, a prestigious biennial exhibition\, is now in its fifth edition. With an impressive prize pool of $18\,000\, it celebrates New Zealand’s vibrant artistic diversity and stands as one of the country’s leading art exhibitions. \nThis year’s exhibition features 220 works\, carefully selected from over 550 entries by esteemed judges jim and Marcella Geddes. \nAll award-winning works are annotated in the exhibition\, with the judges’ comments included. \nOne final award remains – the People’s Choice Award. We invite you to cast your vote for your favourite work. \nStay connected with us on Facebook at Otago Art Society – OAS\, where we will announce the People’s Choice Award winner at the close of the exhibition. \nAll works are available for purchase. Sold works are marked with a red dot next to their number. For more details about the exhibition and the works on display\, please refer to the catalogue. \nSponsors\nThese Awards have been made possible through the generous sponsorship of principal sponsor: The Cleveland Charitable Foundation and category sponsors: Winsor & Newton\, Liquitex\, Highgate Partners\, the Naylor Family\, Alex Campbell’s Menswear\, and Moray Gallery. Special thanks to supporters the Thomas Gregg Apartments and Fresh Choice Roslyn. \nExhibition catalogue\nExhibition catalogue PDF (images not included) \n  \nAWARD WINNERS\nSupreme Award\n$10\,000\, sponsored by The Cleveland Charitable Foundation \nDean Raybould\ngHosttrunk (Acrylic/Resin) \n \nCategory 1: Painting/2D Media\nSponsored by Winsor & Newton \nExcellence Award $1000: Dean Raybould\ngHosttrunk (Acrylic/Resin) \nMerit Award $500: Edwards + Johann\nGeomorphic Act – Diptych (Ink and Watercolour) \n \nCategory 2: Printmaking/Photography/Digital Graphics\nSponsored by Highgate Partners \nExcellence Award $1000: Mark Graver\nBroad Bay 1 (Etching/Collagraph/Carborundum) \nMerit Award $500: Peter McLaren\nScorched Earth (H/C Monotype) \n \nCategory 3: 3D Media/Sculpture/Jewellery\nSponsored by The Naylor Family \nExcellence Award $1000: Innocenza Toritto\nOdd Boxed Memories (Clay with Photographs) \nMerit Award $500: Jerry Howlett\nEarthform VI – Learning to Reworld on a Damaged Planet (Mixed Media) \n \nCategory 4: Textile/Embroidery/Stitch\nSponsored by Alex Campbells Menswear \nExcellence Award $1000: Samantha Sutherland\nSecret Beach Te Puru (Textile) \nMerit Award $500: Ruth Tansley\nMoonlight Tops – Paparoa Range (Tapestry Weaving) \n \nYoung Artist Award\nSponsored by Liquitex New Zealand \nYoung Artist $1000: Joel Potter\nThe After Image / Ghost (Photography) \n \n  \nFrom left to right: Ruth Tansley\, Dean Raybould\, Jerry Howlett\, Ina Johann\, Victoria Edwards\, Peter McLaren  (Joel Potter\, Samantha Sutherland and Mark Graver were unable to attend the awards night)
URL:https://otagoartsociety.co.nz/event/cleveland-national-art-awards/
LOCATION:Otago Art Society\, Dunedin Railway Station\, 22 Anzac Avenue\, Dunedin\, otagoartsociety@xtra.co.nz\, 9016\, New Zealand
END:VEVENT
END:VCALENDAR