BEGIN:VCALENDAR
VERSION:2.0
PRODID:-//The Otago Art Society - ECPv6.15.20//NONSGML v1.0//EN
CALSCALE:GREGORIAN
METHOD:PUBLISH
X-WR-CALNAME:The Otago Art Society
X-ORIGINAL-URL:https://otagoartsociety.co.nz
X-WR-CALDESC:Events for The Otago Art Society
REFRESH-INTERVAL;VALUE=DURATION:PT1H
X-Robots-Tag:noindex
X-PUBLISHED-TTL:PT1H
BEGIN:VTIMEZONE
TZID:Pacific/Auckland
BEGIN:STANDARD
TZOFFSETFROM:+1300
TZOFFSETTO:+1200
TZNAME:NZST
DTSTART:20240406T140000
END:STANDARD
BEGIN:DAYLIGHT
TZOFFSETFROM:+1200
TZOFFSETTO:+1300
TZNAME:NZDT
DTSTART:20240928T140000
END:DAYLIGHT
BEGIN:STANDARD
TZOFFSETFROM:+1300
TZOFFSETTO:+1200
TZNAME:NZST
DTSTART:20250405T140000
END:STANDARD
BEGIN:DAYLIGHT
TZOFFSETFROM:+1200
TZOFFSETTO:+1300
TZNAME:NZDT
DTSTART:20250927T140000
END:DAYLIGHT
BEGIN:STANDARD
TZOFFSETFROM:+1300
TZOFFSETTO:+1200
TZNAME:NZST
DTSTART:20260404T140000
END:STANDARD
BEGIN:DAYLIGHT
TZOFFSETFROM:+1200
TZOFFSETTO:+1300
TZNAME:NZDT
DTSTART:20260926T140000
END:DAYLIGHT
END:VTIMEZONE
BEGIN:VEVENT
DTSTART;TZID=Pacific/Auckland:20251004T093000
DTEND;TZID=Pacific/Auckland:20251025T153000
DTSTAMP:20260422T004016
CREATED:20250725T102150Z
LAST-MODIFIED:20250725T102240Z
UID:6222-1759570200-1761406200@otagoartsociety.co.nz
SUMMARY:Spring Exhibition 2025
DESCRIPTION:Dunedin Railway Station\, First Floor\nOur 2025 Spring Exhibition \nOpen to the public 4th – 25th October \nSunday to Friday from 10am – 4pm\nSaturdays from 9.30am – 3.30pm \nFor artists\nArtist entry form and dates 
URL:https://otagoartsociety.co.nz/event/spring-exhibition-2025/
END:VEVENT
END:VCALENDAR